BEGIN:VCALENDAR
VERSION:2.0
PRODID:-//wp-events-plugin.com//7.2.3.1//EN
TZID:America/Edmonton
X-WR-TIMEZONE:America/Edmonton
BEGIN:VEVENT
UID:960@winstonheights.ca
DTSTART;TZID=America/Edmonton:20260522T190000
DTEND;TZID=America/Edmonton:20260522T210000
DTSTAMP:20260309T152729Z
URL:https://winstonheights.ca/events/quiz-night-2/
SUMMARY:Quiz Night
DESCRIPTION:\n\nQuiz Night Returns!!\nThink you’ve got the brains to take
  the crown? Gather your crew and join us for a night of trivia\, laughs\, 
 and friendly competition!\n\n 	Friday\, May 22nd 7pm\n 	Teams up to 6\n 	
 Cash bar available\n 	Free snacks to keep the brainpower going!\n\nBring y
 our smartest friends (or your luckiest ones) and see if your team has what
  it takes to be the Quiz Night champions!
LOCATION:Winston Heights Mountview Community Association\, 520 27 Ave NE\, 
 Calgary\, AB\, T2E 2A6\, Canada
GEO:51.077599;-114.052242
X-APPLE-STRUCTURED-LOCATION;VALUE=URI;X-ADDRESS=520 27 Ave NE\, Calgary\, A
 B\, T2E 2A6\, Canada;X-APPLE-RADIUS=100;X-TITLE=Winston Heights Mountview 
 Community Association:geo:51.077599,-114.052242
END:VEVENT
BEGIN:VTIMEZONE
TZID:America/Edmonton
X-LIC-LOCATION:America/Edmonton
BEGIN:DAYLIGHT
DTSTART:20260308T030000
TZOFFSETFROM:-0700
TZOFFSETTO:-0600
TZNAME:MDT
END:DAYLIGHT
END:VTIMEZONE
END:VCALENDAR