BEGIN:VCALENDAR
VERSION:2.0
PRODID:-//wp-events-plugin.com//7.2.3.1//EN
TZID:America/Edmonton
X-WR-TIMEZONE:America/Edmonton
BEGIN:VEVENT
UID:979@winstonheights.ca
DTSTART;TZID=America/Edmonton:20260324T180000
DTEND;TZID=America/Edmonton:20270323T200000
DTSTAMP:20260312T155629Z
URL:https://winstonheights.ca/events/family-craft-night/
SUMMARY:Family Craft Night
DESCRIPTION:Founders’ Room (entrance is front door\, main building) \n\nA
  relaxed evening of creativity and connection. Enjoy free kids’ crafts
  and light refreshments\, and bring your own project to work on while yo
 u visit with neighbours. We welcome knitting\, crochet\, needlework\, sewi
 ng\, paper crafts and more! Just be sure to bring all your supplies. Free 
 for WHMCA members. Please note that we ask that no projects have glitter
 . Children under 18 must be accompanied by an adult. \n\nFor more info\, c
 ontact Heather at (403) 803-5889. 
LOCATION:Winston Heights Mountview Community Association\, 520 27 Ave NE\, 
 Calgary\, AB\, T2E 2A6\, Canada
GEO:51.077599;-114.052242
X-APPLE-STRUCTURED-LOCATION;VALUE=URI;X-ADDRESS=520 27 Ave NE\, Calgary\, A
 B\, T2E 2A6\, Canada;X-APPLE-RADIUS=100;X-TITLE=Winston Heights Mountview 
 Community Association:geo:51.077599,-114.052242
END:VEVENT
BEGIN:VTIMEZONE
TZID:America/Edmonton
X-LIC-LOCATION:America/Edmonton
BEGIN:DAYLIGHT
DTSTART:20260308T030000
TZOFFSETFROM:-0700
TZOFFSETTO:-0600
TZNAME:MDT
END:DAYLIGHT
BEGIN:STANDARD
DTSTART:20261101T010000
TZOFFSETFROM:-0600
TZOFFSETTO:-0700
TZNAME:MST
END:STANDARD
BEGIN:DAYLIGHT
DTSTART:20270314T030000
TZOFFSETFROM:-0700
TZOFFSETTO:-0600
TZNAME:MDT
END:DAYLIGHT
END:VTIMEZONE
END:VCALENDAR